BEGIN:VCALENDAR
VERSION:2.0
PRODID:-//Plone.org//NONSGML plone.app.event//EN
X-WR-TIMEZONE:America/Buenos_Aires
BEGIN:VEVENT
SUMMARY:Cinelatino: debate ao vivo sobre o filme "Chico Rei Entre Nós"
DTSTART;TZID=America/Sao_Paulo;VALUE=DATE-TIME:20211111T190000
DTEND;TZID=America/Sao_Paulo;VALUE=DATE-TIME:20211111T220000
DTSTAMP;VALUE=DATE-TIME:20260423T150037Z
UID:e1cbf819b256411b8796b83676206315@portal.unila.edu.br
CREATED;VALUE=DATE-TIME:20211109T125434Z
DESCRIPTION:Evento será nesta quinta-feira (11)\, às 19h\; filme estará
  disponível para acesso gratuito nos dias 10 e 11 de novembro
LAST-MODIFIED;VALUE=DATE-TIME:20211109T131637Z
URL:https://portal.unila.edu.br/eventos/cinelatino-debate-ao-vivo-sobre-o-
 filme-chico-rei-entre-nos
END:VEVENT
BEGIN:VTIMEZONE
TZID:America/Sao_Paulo
X-LIC-LOCATION:America/Sao_Paulo
BEGIN:DAYLIGHT
DTSTART;VALUE=DATE-TIME:20211017T010000
TZNAME:BRST
TZOFFSETFROM:-0300
TZOFFSETTO:-0200
END:DAYLIGHT
END:VTIMEZONE
END:VCALENDAR
