BEGIN:VCALENDAR
VERSION:2.0
PRODID:-//Plone.org//NONSGML plone.app.event//EN
X-WR-TIMEZONE:America/Buenos_Aires
BEGIN:VEVENT
SUMMARY:Cinedebate sobre segurança alimentar
DTSTART;TZID=America/Buenos_Aires;VALUE=DATE-TIME:20230728T190000
DTSTAMP;VALUE=DATE-TIME:20260423T200642Z
UID:07f3665107834c35bd268307d52a5547@portal.unila.edu.br
CREATED;VALUE=DATE-TIME:20230721T140039Z
DESCRIPTION:No dia 28 de julho\, o Observatório Educador Ambiental Moema 
 Viezzer promove\, de forma virtual\, o Cinedebate “Pensar os sistemas al
 imentares na transição para um futuro sustentável”.
LAST-MODIFIED;VALUE=DATE-TIME:20230728T132505Z
LOCATION:Remoto
URL:https://portal.unila.edu.br/eventos/cinedebate-sobre-seguranca-aliment
 ar
END:VEVENT
BEGIN:VTIMEZONE
TZID:America/Buenos_Aires
X-LIC-LOCATION:America/Buenos_Aires
BEGIN:STANDARD
DTSTART;VALUE=DATE-TIME:20090314T230000
TZNAME:ART
TZOFFSETFROM:-0200
TZOFFSETTO:-0300
END:STANDARD
END:VTIMEZONE
END:VCALENDAR
