BEGIN:VCALENDAR
VERSION:2.0
PRODID:-//Plone.org//NONSGML plone.app.event//EN
X-WR-TIMEZONE:America/Buenos_Aires
BEGIN:VEVENT
SUMMARY:Cineclube Latino promove debate sobre o filme "Até o fim"
DTSTART;TZID=America/Buenos_Aires;VALUE=DATE-TIME:20220307T180000
DTEND;TZID=America/Buenos_Aires;VALUE=DATE-TIME:20220307T210000
DTSTAMP;VALUE=DATE-TIME:20260423T231141Z
UID:9fa63f1d954545b889cd3494fa0d23da@portal.unila.edu.br
CREATED;VALUE=DATE-TIME:20220304T170143Z
DESCRIPTION:O filme será disponibilizado via link para os inscritos
LAST-MODIFIED;VALUE=DATE-TIME:20220304T170708Z
URL:https://portal.unila.edu.br/eventos/cineclube-latino-promove-debate-so
 bre-o-filme-ate-o-fim
END:VEVENT
BEGIN:VTIMEZONE
TZID:America/Buenos_Aires
X-LIC-LOCATION:America/Buenos_Aires
BEGIN:STANDARD
DTSTART;VALUE=DATE-TIME:20090314T230000
TZNAME:ART
TZOFFSETFROM:-0200
TZOFFSETTO:-0300
END:STANDARD
END:VTIMEZONE
END:VCALENDAR
