BEGIN:VCALENDAR
VERSION:2.0
PRODID:-//Plone.org//NONSGML plone.app.event//EN
X-WR-TIMEZONE:America/Buenos_Aires
BEGIN:VEVENT
SUMMARY:Cineclube Cinelatino
DTSTART;TZID=America/Buenos_Aires;VALUE=DATE-TIME:20250121T190000
DTSTAMP;VALUE=DATE-TIME:20260424T084044Z
UID:cecc8bda3c95435f8b9a05a5dad0d701@portal.unila.edu.br
CREATED;VALUE=DATE-TIME:20250117T150743Z
DESCRIPTION:Cineclube Cinelatino exibe o filme "Cidade\; Campo"\, com a pr
 esença da diretora Juliana Rojas
LAST-MODIFIED;VALUE=DATE-TIME:20250120T111646Z
URL:https://portal.unila.edu.br/eventos/cineclube-cinelatino
END:VEVENT
BEGIN:VTIMEZONE
TZID:America/Buenos_Aires
X-LIC-LOCATION:America/Buenos_Aires
BEGIN:STANDARD
DTSTART;VALUE=DATE-TIME:20090314T230000
TZNAME:ART
TZOFFSETFROM:-0200
TZOFFSETTO:-0300
END:STANDARD
END:VTIMEZONE
END:VCALENDAR
