BEGIN:VCALENDAR
VERSION:2.0
PRODID:-//Plone.org//NONSGML plone.app.event//EN
X-WR-TIMEZONE:America/Buenos_Aires
BEGIN:VEVENT
SUMMARY:Cineclube Cinelatino - filme: "Eleições"
DTSTART;TZID=America/Sao_Paulo;VALUE=DATE-TIME:20190528T190000
DTEND;TZID=America/Sao_Paulo;VALUE=DATE-TIME:20190528T200000
DTSTAMP;VALUE=DATE-TIME:20260423T225009Z
UID:4289bc91731c4b729988d93e2190dc98@portal.unila.edu.br
CREATED;VALUE=DATE-TIME:20190521T132930Z
DESCRIPTION:Documentário mostra estudantes de uma escola estadual de ensi
 no médio do centro de São Paulo numa campanha para eleger seu grêmio es
 tudantil
LAST-MODIFIED;VALUE=DATE-TIME:20190521T190851Z
URL:https://portal.unila.edu.br/eventos/cineclube-cinelatino-eleicoes
END:VEVENT
BEGIN:VTIMEZONE
TZID:America/Sao_Paulo
X-LIC-LOCATION:America/Sao_Paulo
BEGIN:STANDARD
DTSTART;VALUE=DATE-TIME:20190216T230000
TZNAME:BRT
TZOFFSETFROM:-0200
TZOFFSETTO:-0300
END:STANDARD
END:VTIMEZONE
END:VCALENDAR
