BEGIN:VCALENDAR
VERSION:2.0
PRODID:-//Plone.org//NONSGML plone.app.event//EN
X-WR-TIMEZONE:America/Buenos_Aires
BEGIN:VEVENT
SUMMARY:Cineclube Cinelatino: Assexybilidade (2023)
DTSTART;TZID=America/Buenos_Aires;VALUE=DATE-TIME:20240924T190000
DTSTAMP;VALUE=DATE-TIME:20260424T032148Z
UID:63683e15330242348556e0a81dc88b25@portal.unila.edu.br
CREATED;VALUE=DATE-TIME:20240918T111409Z
DESCRIPTION:O filme será exibido no dia 24 de setembro\, às 19h\, no Cin
 ecataratas\, e conta histórias sobre a sexualidade de pessoas com defici
 ência. A atividade terá a presença de Daniel Gonçalves\, diretor do fi
 lme\, jornalista e pessoa com deficiência.
LAST-MODIFIED;VALUE=DATE-TIME:20240918T120158Z
LOCATION:Cinecataras - Shopping JL - Foz do Iguaçu-PR
URL:https://portal.unila.edu.br/eventos/cineclube-cinelatino-assexybilidad
 e-2023
END:VEVENT
BEGIN:VTIMEZONE
TZID:America/Buenos_Aires
X-LIC-LOCATION:America/Buenos_Aires
BEGIN:STANDARD
DTSTART;VALUE=DATE-TIME:20090314T230000
TZNAME:ART
TZOFFSETFROM:-0200
TZOFFSETTO:-0300
END:STANDARD
END:VTIMEZONE
END:VCALENDAR
