BEGIN:VCALENDAR
VERSION:2.0
PRODID:-//Plone.org//NONSGML plone.app.event//EN
X-WR-TIMEZONE:America/Buenos_Aires
BEGIN:VEVENT
SUMMARY:Cine Verde em Bici
DTSTART;TZID=America/Buenos_Aires;VALUE=DATE-TIME:20250210T143000
DTSTAMP;VALUE=DATE-TIME:20260423T210021Z
UID:ab6c6d92bcfa470ba2f78b7a2d69356d@portal.unila.edu.br
CONTACT:https://forms.gle/3FZjbv8AdAus7vi3A
CREATED;VALUE=DATE-TIME:20250204T153206Z
DESCRIPTION:3ª Exposição - Quilombo Horta do Seu Zé e Dona Laíde (BR)
  acontece no dia 10 de fevereiro
LAST-MODIFIED;VALUE=DATE-TIME:20250204T155851Z
LOCATION:Quilombo Horta do Seu Zé e da Dona Laíde
URL:https://portal.unila.edu.br/eventos/cine-verde-em-bici
END:VEVENT
BEGIN:VTIMEZONE
TZID:America/Buenos_Aires
X-LIC-LOCATION:America/Buenos_Aires
BEGIN:STANDARD
DTSTART;VALUE=DATE-TIME:20090314T230000
TZNAME:ART
TZOFFSETFROM:-0200
TZOFFSETTO:-0300
END:STANDARD
END:VTIMEZONE
END:VCALENDAR
