BEGIN:VCALENDAR
VERSION:2.0
PRODID:-//Plone.org//NONSGML plone.app.event//EN
X-WR-TIMEZONE:America/Buenos_Aires
BEGIN:VEVENT
SUMMARY:Ciclo Sonoro: Relativo\, Impreciso e Paradoxal - Felipe José
DTSTART;TZID=America/Buenos_Aires;VALUE=DATE-TIME:20230806T110000
DTSTAMP;VALUE=DATE-TIME:20260424T051226Z
UID:117769e37d034250b48119c4c6abb03c@portal.unila.edu.br
CREATED;VALUE=DATE-TIME:20230803T145556Z
DESCRIPTION:Projeto de extensão Ciclo Sonoro traz aos palcos de Foz do Ig
 uaçu neste domingo (6) o multiinstrumentista Felipe José
LAST-MODIFIED;VALUE=DATE-TIME:20230803T145600Z
LOCATION:Fundação Cultural de Foz do Iguaçu
URL:https://portal.unila.edu.br/eventos/ciclo-sonoro-relativo-impreciso-e-
 paradoxal-felipe-jose
END:VEVENT
BEGIN:VTIMEZONE
TZID:America/Buenos_Aires
X-LIC-LOCATION:America/Buenos_Aires
BEGIN:STANDARD
DTSTART;VALUE=DATE-TIME:20090314T230000
TZNAME:ART
TZOFFSETFROM:-0200
TZOFFSETTO:-0300
END:STANDARD
END:VTIMEZONE
END:VCALENDAR
