BEGIN:VCALENDAR
VERSION:2.0
PRODID:-//Plone.org//NONSGML plone.app.event//EN
X-WR-TIMEZONE:America/Buenos_Aires
BEGIN:VEVENT
SUMMARY:Ciclo Sonoro apresenta: Recital de Piano - Antonio Formaro
DTSTART;TZID=America/Buenos_Aires;VALUE=DATE-TIME:20230514T110000
DTEND;TZID=America/Buenos_Aires;VALUE=DATE-TIME:20230514T130000
DTSTAMP;VALUE=DATE-TIME:20260423T225228Z
UID:ba5712f2b09b47f29c54c82da77c6e3d@portal.unila.edu.br
CONTACT:https://www.instagram.com/ciclosonorounila/
CREATED;VALUE=DATE-TIME:20230509T182343Z
DESCRIPTION:Projeto de Extensão Ciclo Sonoro apresenta recital do pianist
 a argentino Antonio Formaro
LAST-MODIFIED;VALUE=DATE-TIME:20230509T182348Z
LOCATION:Fundação Cultural de Foz do Iguaçu
URL:https://portal.unila.edu.br/eventos/ciclo-sonoro-apresenta-recital-de-
 piano-antonio-formaro
END:VEVENT
BEGIN:VTIMEZONE
TZID:America/Buenos_Aires
X-LIC-LOCATION:America/Buenos_Aires
BEGIN:STANDARD
DTSTART;VALUE=DATE-TIME:20090314T230000
TZNAME:ART
TZOFFSETFROM:-0200
TZOFFSETTO:-0300
END:STANDARD
END:VTIMEZONE
END:VCALENDAR
