BEGIN:VCALENDAR
VERSION:2.0
PRODID:-//Plone.org//NONSGML plone.app.event//EN
X-WR-TIMEZONE:America/Buenos_Aires
BEGIN:VEVENT
SUMMARY:Ciclo Formativo "Saberes Pedagógicos"
DTSTART;TZID=America/Buenos_Aires;VALUE=DATE-TIME:20231211T183000
DTEND;TZID=America/Buenos_Aires;VALUE=DATE-TIME:20231212T223000
DTSTAMP;VALUE=DATE-TIME:20260419T153330Z
UID:d0fa790c57aa40f98c684c251448fcf9@portal.unila.edu.br
CREATED;VALUE=DATE-TIME:20231128T192504Z
DESCRIPTION:Oficinas têm como tema as especificidades linguísticas dos s
 urdos\, direitos linguísticos e atendimento inclusivo
LAST-MODIFIED;VALUE=DATE-TIME:20231212T134214Z
LOCATION:Jardim Universitário (sala C307)
URL:https://portal.unila.edu.br/eventos/ciclo-formativo-saberes-pedagogico
 s
END:VEVENT
BEGIN:VTIMEZONE
TZID:America/Buenos_Aires
X-LIC-LOCATION:America/Buenos_Aires
BEGIN:STANDARD
DTSTART;VALUE=DATE-TIME:20090314T230000
TZNAME:ART
TZOFFSETFROM:-0200
TZOFFSETTO:-0300
END:STANDARD
END:VTIMEZONE
END:VCALENDAR
