BEGIN:VCALENDAR
VERSION:2.0
PRODID:-//Plone.org//NONSGML plone.app.event//EN
X-WR-TIMEZONE:America/Buenos_Aires
BEGIN:VEVENT
SUMMARY:Ciclo de seminários sobre aplicações de Computação\, Matemát
 ica e Física
DTSTART;TZID=America/Buenos_Aires;VALUE=DATE-TIME:20250702T140000
DTSTAMP;VALUE=DATE-TIME:20260423T225218Z
UID:baa1d9a68efd4874bbd9ff6ee8ebad7a@portal.unila.edu.br
CREATED;VALUE=DATE-TIME:20250625T162459Z
DESCRIPTION:O tema desta edição será "Dinâmicas quânticas críticas n
 o aprendizado de máquina".
LAST-MODIFIED;VALUE=DATE-TIME:20250625T162607Z
LOCATION:Online
URL:https://portal.unila.edu.br/eventos/ciclo-de-seminarios-sobre-aplicaco
 es-de-computacao-matematica-e-fisica-2
END:VEVENT
BEGIN:VTIMEZONE
TZID:America/Buenos_Aires
X-LIC-LOCATION:America/Buenos_Aires
BEGIN:STANDARD
DTSTART;VALUE=DATE-TIME:20090314T230000
TZNAME:ART
TZOFFSETFROM:-0200
TZOFFSETTO:-0300
END:STANDARD
END:VTIMEZONE
END:VCALENDAR
