BEGIN:VCALENDAR
VERSION:2.0
PRODID:-//Plone.org//NONSGML plone.app.event//EN
X-WR-TIMEZONE:America/Buenos_Aires
BEGIN:VEVENT
SUMMARY:Geografia - Ciclo de Palestras e Minicursos
DTSTART;TZID=America/Sao_Paulo;VALUE=DATE-TIME:20191104T140000
DTEND;TZID=America/Sao_Paulo;VALUE=DATE-TIME:20191104T204000
DTSTAMP;VALUE=DATE-TIME:20260422T014112Z
UID:4af60083d6a24df9b160d5af2212adee@portal.unila.edu.br
CATEGORIES:geografia
CREATED;VALUE=DATE-TIME:20191029T133650Z
DESCRIPTION:As coordenações dos cursos de Geografia da UNILA organizam a
 tividades para o mês de novembro
LAST-MODIFIED;VALUE=DATE-TIME:20191029T152824Z
LOCATION:UNILA-PTI (Avenida Tancredo Neves\, 6731)
URL:https://portal.unila.edu.br/eventos/ciclo-de-palestras-e-minicursos
END:VEVENT
BEGIN:VTIMEZONE
TZID:America/Sao_Paulo
X-LIC-LOCATION:America/Sao_Paulo
BEGIN:DAYLIGHT
DTSTART;VALUE=DATE-TIME:20191020T010000
TZNAME:BRST
TZOFFSETFROM:-0300
TZOFFSETTO:-0200
END:DAYLIGHT
END:VTIMEZONE
END:VCALENDAR
