BEGIN:VCALENDAR
VERSION:2.0
PRODID:-//Plone.org//NONSGML plone.app.event//EN
X-WR-TIMEZONE:America/Buenos_Aires
BEGIN:VEVENT
SUMMARY:Ciclo de Palestras "Café e Biodiversidade"
DTSTART;TZID=America/Buenos_Aires;VALUE=DATE-TIME:20241204T180000
DTEND;TZID=America/Buenos_Aires;VALUE=DATE-TIME:20241204T200000
DTSTAMP;VALUE=DATE-TIME:20260423T210142Z
UID:ac044ad0c26741b7aee4c5f2c23e4731@portal.unila.edu.br
CREATED;VALUE=DATE-TIME:20241128T104746Z
DESCRIPTION:No dia 4 de dezembro\, às 18h\, acontece a palestra "Qual é 
 o papel dos recursos genéticos e do melhoramento vegetal no alcance da Ag
 enda 2030?"\, ministrada por Samuel Kamphorst.
LAST-MODIFIED;VALUE=DATE-TIME:20241128T120129Z
LOCATION:UNILA - Jardim Universitário
URL:https://portal.unila.edu.br/eventos/ciclo-de-palestras-cafe-e-biodiver
 sidade
END:VEVENT
BEGIN:VTIMEZONE
TZID:America/Buenos_Aires
X-LIC-LOCATION:America/Buenos_Aires
BEGIN:STANDARD
DTSTART;VALUE=DATE-TIME:20090314T230000
TZNAME:ART
TZOFFSETFROM:-0200
TZOFFSETTO:-0300
END:STANDARD
END:VTIMEZONE
END:VCALENDAR
