BEGIN:VCALENDAR
VERSION:2.0
PRODID:-//Plone.org//NONSGML plone.app.event//EN
X-WR-TIMEZONE:America/Buenos_Aires
BEGIN:VEVENT
SUMMARY:Ciclo de Palestras: Aranhas e escorpiões - Importância ecológic
 a\, médica\, acidentes e prevenção
DTSTART;TZID=America/Buenos_Aires;VALUE=DATE-TIME:20220726T190000
DTEND;TZID=America/Buenos_Aires;VALUE=DATE-TIME:20220726T210000
DTSTAMP;VALUE=DATE-TIME:20260423T230155Z
UID:3eea60a1227740598e5a8bdfef0448a7@portal.unila.edu.br
CONTACT:https://bit.ly/3P1hcT9
CREATED;VALUE=DATE-TIME:20220713T162143Z
DESCRIPTION:O ciclo apresenta a palestra "Aranhas e Escorpiões de Import
 ância Médica no Brasil: Identificação e Distribuição" – Dr. Leonar
 do Sousa Carvalho
LAST-MODIFIED;VALUE=DATE-TIME:20220713T162150Z
LOCATION:Online
URL:https://portal.unila.edu.br/eventos/ciclo-de-palestras-aranhas-e-escor
 pioes-importancia-ecologica-medica-acidentes-e-prevencao
END:VEVENT
BEGIN:VTIMEZONE
TZID:America/Buenos_Aires
X-LIC-LOCATION:America/Buenos_Aires
BEGIN:STANDARD
DTSTART;VALUE=DATE-TIME:20090314T230000
TZNAME:ART
TZOFFSETFROM:-0200
TZOFFSETTO:-0300
END:STANDARD
END:VTIMEZONE
END:VCALENDAR
