BEGIN:VCALENDAR
VERSION:2.0
PRODID:-//Plone.org//NONSGML plone.app.event//EN
X-WR-TIMEZONE:America/Buenos_Aires
BEGIN:VEVENT
SUMMARY:Ciclo de Palestras: Aranhas e escorpiões - Importância ecológic
 a\, médica\, acidentes e prevenção
DTSTART;TZID=America/Buenos_Aires;VALUE=DATE-TIME:20220802T190000
DTEND;TZID=America/Buenos_Aires;VALUE=DATE-TIME:20220802T210000
DTSTAMP;VALUE=DATE-TIME:20260423T225837Z
UID:a801b85ab35a4617966db8215de3895e@portal.unila.edu.br
CONTACT:https://bit.ly/3P1hcT9
CREATED;VALUE=DATE-TIME:20220713T162632Z
DESCRIPTION:O ciclo apresenta a palestra "Fui picado e agora? - O que faze
 r após um acidente"\, com o Dr. Antonio Brescovit e Paulo André Goldoni
LAST-MODIFIED;VALUE=DATE-TIME:20220713T162637Z
LOCATION:Online
URL:https://portal.unila.edu.br/eventos/ciclo-de-palestras-aranhas-e-escor
 pioes-importancia-ecologica-medica-acidentes-e-prevencao-1
END:VEVENT
BEGIN:VTIMEZONE
TZID:America/Buenos_Aires
X-LIC-LOCATION:America/Buenos_Aires
BEGIN:STANDARD
DTSTART;VALUE=DATE-TIME:20090314T230000
TZNAME:ART
TZOFFSETFROM:-0200
TZOFFSETTO:-0300
END:STANDARD
END:VTIMEZONE
END:VCALENDAR
