BEGIN:VCALENDAR
VERSION:2.0
PRODID:-//Plone.org//NONSGML plone.app.event//EN
X-WR-TIMEZONE:America/Buenos_Aires
BEGIN:VEVENT
SUMMARY:Ciclo de Palestras “Café e Biodiversidade”
DTSTART;TZID=America/Buenos_Aires;VALUE=DATE-TIME:20250425T100000
DTSTAMP;VALUE=DATE-TIME:20260423T115228Z
UID:5f576b031c0741d98b684a0548d6d525@portal.unila.edu.br
CREATED;VALUE=DATE-TIME:20250417T193314Z
DESCRIPTION:O Ciclo de Palestras “Café e Biodiversidade”\, promovido 
 pelo PPGBN\, contará\, no dia 25 de abril\, com palestra ministrada pelo 
 professor Luiz Roberto Ribeiro Faria.
LAST-MODIFIED;VALUE=DATE-TIME:20250422T153036Z
LOCATION:UNILA - Jardim Universitário
URL:https://portal.unila.edu.br/eventos/ciclo-de-palestras-201ccafe-e-biod
 iversidade201d
END:VEVENT
BEGIN:VTIMEZONE
TZID:America/Buenos_Aires
X-LIC-LOCATION:America/Buenos_Aires
BEGIN:STANDARD
DTSTART;VALUE=DATE-TIME:20090314T230000
TZNAME:ART
TZOFFSETFROM:-0200
TZOFFSETTO:-0300
END:STANDARD
END:VTIMEZONE
END:VCALENDAR
