BEGIN:VCALENDAR
VERSION:2.0
PRODID:-//Plone.org//NONSGML plone.app.event//EN
X-WR-TIMEZONE:America/Buenos_Aires
BEGIN:VEVENT
SUMMARY:Ciclo de Palestras “Café e Biodiversidade”
DTSTART;TZID=America/Buenos_Aires;VALUE=DATE-TIME:20250606T100000
DTEND;TZID=America/Buenos_Aires;VALUE=DATE-TIME:20250606T120000
DTSTAMP;VALUE=DATE-TIME:20260423T225049Z
UID:8fc43c32f1684a6295277aa87a54a69e@portal.unila.edu.br
CREATED;VALUE=DATE-TIME:20250603T153917Z
DESCRIPTION:Nesta edição\, a convidada é a bióloga Agostina Juncosa Po
 lzella\, que apresentará a palestra “Cantos en la noche: las lechuzas e
 n los ecosistemas y en la cultura”.
LAST-MODIFIED;VALUE=DATE-TIME:20250603T154007Z
LOCATION:UNILA - Jardim Universitário
URL:https://portal.unila.edu.br/eventos/ciclo-de-palestras-201ccafe-e-biod
 iversidade201d-1
END:VEVENT
BEGIN:VTIMEZONE
TZID:America/Buenos_Aires
X-LIC-LOCATION:America/Buenos_Aires
BEGIN:STANDARD
DTSTART;VALUE=DATE-TIME:20090314T230000
TZNAME:ART
TZOFFSETFROM:-0200
TZOFFSETTO:-0300
END:STANDARD
END:VTIMEZONE
END:VCALENDAR
