BEGIN:VCALENDAR
VERSION:2.0
PRODID:-//Plone.org//NONSGML plone.app.event//EN
X-WR-TIMEZONE:America/Buenos_Aires
BEGIN:VEVENT
SUMMARY:Ciclo de lives: “Diálogos Interdisciplinares Latino-Americanos
 ”
DTSTART;TZID=America/Sao_Paulo;VALUE=DATE-TIME:20211026T150000
DTEND;TZID=America/Sao_Paulo;VALUE=DATE-TIME:20211026T170000
DTSTAMP;VALUE=DATE-TIME:20260423T230954Z
UID:91fe2cb035044c43901c8758469f3580@portal.unila.edu.br
CREATED;VALUE=DATE-TIME:20210804T193606Z
DESCRIPTION:Próxima atividade será no dia 26 de outubro\, às 15h
LAST-MODIFIED;VALUE=DATE-TIME:20210804T193648Z
URL:https://portal.unila.edu.br/eventos/ciclo-de-lives-201cdialogos-interd
 isciplinares-latino-americanos201d-5
END:VEVENT
BEGIN:VTIMEZONE
TZID:America/Sao_Paulo
X-LIC-LOCATION:America/Sao_Paulo
BEGIN:DAYLIGHT
DTSTART;VALUE=DATE-TIME:20211017T010000
TZNAME:BRST
TZOFFSETFROM:-0300
TZOFFSETTO:-0200
END:DAYLIGHT
END:VTIMEZONE
END:VCALENDAR
