BEGIN:VCALENDAR
VERSION:2.0
PRODID:-//Plone.org//NONSGML plone.app.event//EN
X-WR-TIMEZONE:America/Buenos_Aires
BEGIN:VEVENT
SUMMARY:Ciclo de Estudos
DTSTART;VALUE=DATE:20251013
DTEND;VALUE=DATE:20251018
DTSTAMP;VALUE=DATE-TIME:20260424T084033Z
UID:ca9739a0b16c43129bb3e7c469b0134a@portal.unila.edu.br
CREATED;VALUE=DATE-TIME:20251007T125204Z
DESCRIPTION:De 13 a 17 de outubro\, a Assessoria Pedagógica Universitári
 a realiza mais uma edição do "Ciclo de Estudos: oficinas de orientação
  para estudantes de graduação".
LAST-MODIFIED;VALUE=DATE-TIME:20251007T125222Z
URL:https://portal.unila.edu.br/eventos/ciclo-de-estudos
END:VEVENT
END:VCALENDAR
