BEGIN:VCALENDAR
VERSION:2.0
PRODID:-//Plone.org//NONSGML plone.app.event//EN
X-WR-TIMEZONE:America/Buenos_Aires
BEGIN:VEVENT
SUMMARY:Ciclo de Debates Acadêmicos
DTSTART;TZID=America/Sao_Paulo;VALUE=DATE-TIME:20191128T193000
DTEND;TZID=America/Sao_Paulo;VALUE=DATE-TIME:20191129T220000
DTSTAMP;VALUE=DATE-TIME:20260425T011223Z
UID:aa6e89ba15434dd598690f08cfc9092c@portal.unila.edu.br
CATEGORIES:economia
CREATED;VALUE=DATE-TIME:20191111T125026Z
DESCRIPTION:Os cursos de graduação e pós-graduação em Economia convid
 am para um Ciclo de Debates\, nos dias 28 e 29 de novembro
LAST-MODIFIED;VALUE=DATE-TIME:20191111T134459Z
LOCATION:Auditório Cesar Lattes - UNILA-PTI (Avenida Tancredo Neves\, 673
 1)
URL:https://portal.unila.edu.br/eventos/ciclo-de-debates-academicos
END:VEVENT
BEGIN:VTIMEZONE
TZID:America/Sao_Paulo
X-LIC-LOCATION:America/Sao_Paulo
BEGIN:DAYLIGHT
DTSTART;VALUE=DATE-TIME:20191020T010000
TZNAME:BRST
TZOFFSETFROM:-0300
TZOFFSETTO:-0200
END:DAYLIGHT
END:VTIMEZONE
END:VCALENDAR
