BEGIN:VCALENDAR
VERSION:2.0
PRODID:-//Plone.org//NONSGML plone.app.event//EN
X-WR-TIMEZONE:America/Buenos_Aires
BEGIN:VEVENT
SUMMARY:Ciclo de conferências: “Conexões históricas: África/América
  Latina”
DTSTART;TZID=America/Sao_Paulo;VALUE=DATE-TIME:20211117T190000
DTEND;TZID=America/Sao_Paulo;VALUE=DATE-TIME:20211117T203000
DTSTAMP;VALUE=DATE-TIME:20260423T230341Z
UID:9ddf17d3f3b04ebc9342e7d463c39e58@portal.unila.edu.br
CREATED;VALUE=DATE-TIME:20210813T131057Z
DESCRIPTION:Próxima conferência será no dia 17 de novembro\, às 19h\, 
 com a participação da professora Ynaê Lopes dos Santos (UFF)
LAST-MODIFIED;VALUE=DATE-TIME:20211112T134720Z
URL:https://portal.unila.edu.br/eventos/ciclo-de-conferencias-201cconexoes
 -historicas-africa-america-latina201d
END:VEVENT
BEGIN:VTIMEZONE
TZID:America/Sao_Paulo
X-LIC-LOCATION:America/Sao_Paulo
BEGIN:DAYLIGHT
DTSTART;VALUE=DATE-TIME:20211017T010000
TZNAME:BRST
TZOFFSETFROM:-0300
TZOFFSETTO:-0200
END:DAYLIGHT
END:VTIMEZONE
END:VCALENDAR
