BEGIN:VCALENDAR
VERSION:2.0
PRODID:-//Plone.org//NONSGML plone.app.event//EN
X-WR-TIMEZONE:America/Buenos_Aires
BEGIN:VEVENT
SUMMARY:Ciclo de conciertos y charlas musicales en la triple frontera - Co
 ral Sanepar
DTSTART;TZID=America/Buenos_Aires;VALUE=DATE-TIME:20241129T200000
DTSTAMP;VALUE=DATE-TIME:20260423T230443Z
UID:4585896ca91c43c2ad6eb65d6464c05f@portal.unila.edu.br
CREATED;VALUE=DATE-TIME:20241119T164400Z
DESCRIPTION:A próxima atividade do Ciclo de Conciertos y Charlas Musicale
 s en la Triple Frontera será a apresentação do Coral Sanepar com o espe
 táculo "Cantando a Natureza".
LAST-MODIFIED;VALUE=DATE-TIME:20241119T165034Z
LOCATION:UNILA - Jardim Universitário
URL:https://portal.unila.edu.br/eventos/ciclo-de-conciertos-y-charlas-musi
 cales-en-la-triple-frontera-coral-sanepar
END:VEVENT
BEGIN:VTIMEZONE
TZID:America/Buenos_Aires
X-LIC-LOCATION:America/Buenos_Aires
BEGIN:STANDARD
DTSTART;VALUE=DATE-TIME:20090314T230000
TZNAME:ART
TZOFFSETFROM:-0200
TZOFFSETTO:-0300
END:STANDARD
END:VTIMEZONE
END:VCALENDAR
