BEGIN:VCALENDAR
VERSION:2.0
PRODID:-//Plone.org//NONSGML plone.app.event//EN
X-WR-TIMEZONE:America/Buenos_Aires
BEGIN:VEVENT
SUMMARY:Ciclo de conciertos y charlas musicales en la triple frontera
DTSTART;TZID=America/Buenos_Aires;VALUE=DATE-TIME:20240829T193000
DTSTAMP;VALUE=DATE-TIME:20260424T010124Z
UID:acf00d345b454bec8c1c40bfd6881dda@portal.unila.edu.br
CREATED;VALUE=DATE-TIME:20240820T185144Z
DESCRIPTION:O Ciclo traz um tributo instrumental à Viola Brasileira\, com
  o artista paranaense Marcos Pires\, instrumentista de viola brasileira\, 
 pesquisador\, arte-educador e bacharelando em Música na UNILA.
LAST-MODIFIED;VALUE=DATE-TIME:20240821T115218Z
LOCATION:UNILA - Jardim Universitário
URL:https://portal.unila.edu.br/eventos/ciclo-de-conciertos-y-charlas-musi
 cales-en-la-triple-frontera-2
END:VEVENT
BEGIN:VTIMEZONE
TZID:America/Buenos_Aires
X-LIC-LOCATION:America/Buenos_Aires
BEGIN:STANDARD
DTSTART;VALUE=DATE-TIME:20090314T230000
TZNAME:ART
TZOFFSETFROM:-0200
TZOFFSETTO:-0300
END:STANDARD
END:VTIMEZONE
END:VCALENDAR
