BEGIN:VCALENDAR
VERSION:2.0
PRODID:-//Plone.org//NONSGML plone.app.event//EN
X-WR-TIMEZONE:America/Buenos_Aires
BEGIN:VEVENT
SUMMARY:Ciclo de Atividades PPGIELA/NIELI
DTSTART;TZID=America/Buenos_Aires;VALUE=DATE-TIME:20230404T150000
DTEND;TZID=America/Buenos_Aires;VALUE=DATE-TIME:20230405T200000
DTSTAMP;VALUE=DATE-TIME:20260422T130427Z
UID:3ebdaf0c8e5846a19eb4e570b00097aa@portal.unila.edu.br
CREATED;VALUE=DATE-TIME:20230330T160355Z
DESCRIPTION:O Programa de Pós-Graduação Interdisciplinar em Estudos Lat
 ino-Americanos e o Núcleo Interdisciplinar de Estudos de Língua(gem) e I
 nterculturalidade realizam o Ciclo de Atividades nos dias 4 e 5 de abril.
LAST-MODIFIED;VALUE=DATE-TIME:20230330T160400Z
LOCATION:UNILA - Jardim Universitário
URL:https://portal.unila.edu.br/eventos/ciclo-de-atividades-ppgiela-nieli
END:VEVENT
BEGIN:VTIMEZONE
TZID:America/Buenos_Aires
X-LIC-LOCATION:America/Buenos_Aires
BEGIN:STANDARD
DTSTART;VALUE=DATE-TIME:20090314T230000
TZNAME:ART
TZOFFSETFROM:-0200
TZOFFSETTO:-0300
END:STANDARD
END:VTIMEZONE
END:VCALENDAR
