BEGIN:VCALENDAR
VERSION:2.0
PRODID:-//Plone.org//NONSGML plone.app.event//EN
X-WR-TIMEZONE:America/Buenos_Aires
BEGIN:VEVENT
SUMMARY:Ciclo de Atividades: Educação\, Linguística\, Interculturalidad
 e e (Multi) Letramentos Acadêmicos
DTSTART;TZID=America/Buenos_Aires;VALUE=DATE-TIME:20220829T090000
DTEND;TZID=America/Buenos_Aires;VALUE=DATE-TIME:20220831T180000
DTSTAMP;VALUE=DATE-TIME:20260422T154719Z
UID:0c4ed0a02d1f43c69f0c99cea333b9e0@portal.unila.edu.br
CONTACT:https://sig.unila.edu.br/eventos/login.xhtml
CREATED;VALUE=DATE-TIME:20220824T173052Z
LAST-MODIFIED;VALUE=DATE-TIME:20220829T203848Z
URL:https://portal.unila.edu.br/eventos/ciclo-de-atividades-educacao-lingu
 istica-interculturalidade-e-multi-letramentos-academicos
END:VEVENT
BEGIN:VTIMEZONE
TZID:America/Buenos_Aires
X-LIC-LOCATION:America/Buenos_Aires
BEGIN:STANDARD
DTSTART;VALUE=DATE-TIME:20090314T230000
TZNAME:ART
TZOFFSETFROM:-0200
TZOFFSETTO:-0300
END:STANDARD
END:VTIMEZONE
END:VCALENDAR
