BEGIN:VCALENDAR
VERSION:2.0
PRODID:-//Plone.org//NONSGML plone.app.event//EN
X-WR-TIMEZONE:America/Buenos_Aires
BEGIN:VEVENT
SUMMARY:Charla sobre la convocatoria a la Maestría en Políticas Pública
 s y Desarrollo
DTSTART;TZID=America/Buenos_Aires;VALUE=DATE-TIME:20230929T190000
DTSTAMP;VALUE=DATE-TIME:20260424T051409Z
UID:156d9aad8a444a7d823f33de7eaa25c0@portal.unila.edu.br
CONTACT:https://docs.google.com/forms/d/e/1FAIpQLSedGsk8dW7t-U77CxPEhRkVjd
 kn2ACaJJhHfS9q8n-CqXy-cQ/viewform?pli=1
CREATED;VALUE=DATE-TIME:20230922T142024Z
DESCRIPTION:Atividade fará apresentação e tira dúvidas sobre o process
 o de seleção internacional do Programa de Pós-Graduação em Políticas
  Públicas e Desenvolvimento (PPGPPD)
LAST-MODIFIED;VALUE=DATE-TIME:20230922T143420Z
LOCATION:Remoto
URL:https://portal.unila.edu.br/eventos/charla-sobre-la-convocatoria-a-la-
 maestria-en-politicas-publicas-y-desarrollo
END:VEVENT
BEGIN:VTIMEZONE
TZID:America/Buenos_Aires
X-LIC-LOCATION:America/Buenos_Aires
BEGIN:STANDARD
DTSTART;VALUE=DATE-TIME:20090314T230000
TZNAME:ART
TZOFFSETFROM:-0200
TZOFFSETTO:-0300
END:STANDARD
END:VTIMEZONE
END:VCALENDAR
