BEGIN:VCALENDAR
VERSION:2.0
PRODID:-//Plone.org//NONSGML plone.app.event//EN
X-WR-TIMEZONE:America/Buenos_Aires
BEGIN:VEVENT
SUMMARY:Cerimônia de Retomada das Obras do Campus UNILA - Projeto Oscar N
 iemeyer
DTSTART;TZID=America/Buenos_Aires;VALUE=DATE-TIME:20240228T104500
DTSTAMP;VALUE=DATE-TIME:20260424T051227Z
UID:cf3e657cce7c4a5cacb5bba57984aa5c@portal.unila.edu.br
CREATED;VALUE=DATE-TIME:20240228T131647Z
DESCRIPTION:Evento em Brasília celebrará a retomada das obras e terá tr
 ansmissão ao vivo pelo canal do Youtube do Ministério da Educação
LAST-MODIFIED;VALUE=DATE-TIME:20240228T131653Z
URL:https://portal.unila.edu.br/eventos/cerimonia-de-retomada-das-obras-do
 -campus-unila-projeto-oscar-niemeyer
END:VEVENT
BEGIN:VTIMEZONE
TZID:America/Buenos_Aires
X-LIC-LOCATION:America/Buenos_Aires
BEGIN:STANDARD
DTSTART;VALUE=DATE-TIME:20090314T230000
TZNAME:ART
TZOFFSETFROM:-0200
TZOFFSETTO:-0300
END:STANDARD
END:VTIMEZONE
END:VCALENDAR
