BEGIN:VCALENDAR
VERSION:2.0
PRODID:-//Plone.org//NONSGML plone.app.event//EN
X-WR-TIMEZONE:America/Buenos_Aires
BEGIN:VEVENT
SUMMARY:Centenário da Coluna Prestes Em Foz do Iguaçu
DTSTART;VALUE=DATE:20250401
DTEND;VALUE=DATE:20250531
DTSTAMP;VALUE=DATE-TIME:20260423T225054Z
UID:abad7260532a4d7f9ab9a3eeaefbf942@portal.unila.edu.br
CREATED;VALUE=DATE-TIME:20250317T145446Z
DESCRIPTION:Até maio de 2025\, diversas atividades serão realizadas para
  celebrar o Centenário da Coluna Prestes em Foz do Iguaçu.
LAST-MODIFIED;VALUE=DATE-TIME:20250321T104744Z
URL:https://portal.unila.edu.br/eventos/centenario-da-coluna-prestes-em-fo
 z-do-iguacu
END:VEVENT
END:VCALENDAR
