BEGIN:VCALENDAR
VERSION:2.0
PRODID:-//Plone.org//NONSGML plone.app.event//EN
X-WR-TIMEZONE:America/Buenos_Aires
BEGIN:VEVENT
SUMMARY:Cátedra de Estudos para a Paz (CEPAZ)
DTSTART;TZID=America/Sao_Paulo;VALUE=DATE-TIME:20190416T190000
DTEND;TZID=America/Sao_Paulo;VALUE=DATE-TIME:20190416T210000
DTSTAMP;VALUE=DATE-TIME:20260423T225030Z
UID:242001f1888845f3b726710c27640521@portal.unila.edu.br
CREATED;VALUE=DATE-TIME:20190415T183611Z
DESCRIPTION:Palestra realizada pelo Professor Doutor Áureo Toledo Gomes d
 a Universidade Federal de Uberlândia.
LAST-MODIFIED;VALUE=DATE-TIME:20190415T183617Z
LOCATION:Florestan Fernandes 3 - UNILA Campus PTI
URL:https://portal.unila.edu.br/eventos/catedra-de-estudos-para-a-paz-cepa
 z
END:VEVENT
BEGIN:VTIMEZONE
TZID:America/Sao_Paulo
X-LIC-LOCATION:America/Sao_Paulo
BEGIN:STANDARD
DTSTART;VALUE=DATE-TIME:20190216T230000
TZNAME:BRT
TZOFFSETFROM:-0200
TZOFFSETTO:-0300
END:STANDARD
END:VTIMEZONE
END:VCALENDAR
