BEGIN:VCALENDAR
VERSION:2.0
PRODID:-//Plone.org//NONSGML plone.app.event//EN
X-WR-TIMEZONE:America/Buenos_Aires
BEGIN:VEVENT
SUMMARY:"Caminhos Cruzados – Políticas culturais na Tríplice Fronteira
 "
DTSTART;TZID=America/Buenos_Aires;VALUE=DATE-TIME:20250604T160000
DTSTAMP;VALUE=DATE-TIME:20260423T164142Z
UID:2018759401d74d84a53173cd3c4f2a19@portal.unila.edu.br
CREATED;VALUE=DATE-TIME:20250602T134801Z
DESCRIPTION:Promovido pela UNILA e Itaipu Parquetec\, encontro tem como ob
 jetivo fomentar o debate sobre o cenário cultural.
LAST-MODIFIED;VALUE=DATE-TIME:20250604T132955Z
LOCATION:UNILA - Campus Integração
URL:https://portal.unila.edu.br/eventos/caminhos-cruzados-2013-politicas-c
 ulturais-na-triplice-fronteira
END:VEVENT
BEGIN:VTIMEZONE
TZID:America/Buenos_Aires
X-LIC-LOCATION:America/Buenos_Aires
BEGIN:STANDARD
DTSTART;VALUE=DATE-TIME:20090314T230000
TZNAME:ART
TZOFFSETFROM:-0200
TZOFFSETTO:-0300
END:STANDARD
END:VTIMEZONE
END:VCALENDAR
