BEGIN:VCALENDAR
VERSION:2.0
PRODID:-//Plone.org//NONSGML plone.app.event//EN
X-WR-TIMEZONE:America/Buenos_Aires
BEGIN:VEVENT
SUMMARY:Calendário Acadêmico
DTSTART;VALUE=DATE:20190110
DTEND;VALUE=DATE:20190119
DTSTAMP;VALUE=DATE-TIME:20260423T200540Z
UID:600be68aa29140feb74e6f23c139818a@portal.unila.edu.br
CREATED;VALUE=DATE-TIME:20190110T201342Z
DESCRIPTION:Período para abertura\, no SIGAA\, das turmas de componentes 
 curriculares para o período letivo de 2019.1.
LAST-MODIFIED;VALUE=DATE-TIME:20190112T022529Z
URL:https://portal.unila.edu.br/eventos/calendario-academico
END:VEVENT
END:VCALENDAR
