BEGIN:VCALENDAR
VERSION:2.0
PRODID:-//Plone.org//NONSGML plone.app.event//EN
X-WR-TIMEZONE:America/Buenos_Aires
BEGIN:VEVENT
SUMMARY:Matrículas Não-Brasileiros
DTSTART;VALUE=DATE:20190220
DTEND;VALUE=DATE:20190221
DTSTAMP;VALUE=DATE-TIME:20260424T084203Z
UID:b379cb0fceec4d4eacf753734390cf96@portal.unila.edu.br
CREATED;VALUE=DATE-TIME:20190110T203430Z
DESCRIPTION:Início do período para matrícula presencial para discentes 
 de graduação não brasileiros – ingresso 2019
LAST-MODIFIED;VALUE=DATE-TIME:20190112T022530Z
URL:https://portal.unila.edu.br/eventos/calendario-academico-1
END:VEVENT
END:VCALENDAR
