BEGIN:VCALENDAR
VERSION:2.0
PRODID:-//Plone.org//NONSGML plone.app.event//EN
X-WR-TIMEZONE:America/Buenos_Aires
BEGIN:VEVENT
SUMMARY:Café Democrático
DTSTART;TZID=America/Sao_Paulo;VALUE=DATE-TIME:20191204T190000
DTEND;TZID=America/Sao_Paulo;VALUE=DATE-TIME:20191204T220000
DTSTAMP;VALUE=DATE-TIME:20260423T163003Z
UID:667700223ee2414da82918f7d0807d87@portal.unila.edu.br
CATEGORIES:mestrado políticas públicas
CREATED;VALUE=DATE-TIME:20191204T125132Z
DESCRIPTION:Estudantes do mestrado em Políticas Públicas e Desenvolvimen
 to convidam para um debate sobre a democracia em suas várias dimensões
LAST-MODIFIED;VALUE=DATE-TIME:20191204T133140Z
LOCATION:Sala G 205 - UNILA-Jardim Universitário (Avenida Tarquínio Josl
 in dos Santos\, 1000)
URL:https://portal.unila.edu.br/eventos/cafe-democratico
END:VEVENT
BEGIN:VTIMEZONE
TZID:America/Sao_Paulo
X-LIC-LOCATION:America/Sao_Paulo
BEGIN:DAYLIGHT
DTSTART;VALUE=DATE-TIME:20191020T010000
TZNAME:BRST
TZOFFSETFROM:-0300
TZOFFSETTO:-0200
END:DAYLIGHT
END:VTIMEZONE
END:VCALENDAR
