BEGIN:VCALENDAR
VERSION:2.0
PRODID:-//Plone.org//NONSGML plone.app.event//EN
X-WR-TIMEZONE:America/Buenos_Aires
BEGIN:VEVENT
SUMMARY:Café com Línguas
DTSTART;TZID=America/Sao_Paulo;VALUE=DATE-TIME:20191206T180000
DTEND;TZID=America/Sao_Paulo;VALUE=DATE-TIME:20191206T220000
DTSTAMP;VALUE=DATE-TIME:20260424T031728Z
UID:d42a23bc7ff94419b8dc1eff2e4b5a0b@portal.unila.edu.br
CREATED;VALUE=DATE-TIME:20191129T132023Z
DESCRIPTION:Programa Idioma sem Fronteiras convida para atividade voltada 
 à prática dos idiomas falados e ensinados na UNILA
LAST-MODIFIED;VALUE=DATE-TIME:20191129T200651Z
LOCATION:Noves Bike Café (Rua Engenheiro Rebouças\, 540)
URL:https://portal.unila.edu.br/eventos/cafe-com-linguas
END:VEVENT
BEGIN:VTIMEZONE
TZID:America/Sao_Paulo
X-LIC-LOCATION:America/Sao_Paulo
BEGIN:DAYLIGHT
DTSTART;VALUE=DATE-TIME:20191020T010000
TZNAME:BRST
TZOFFSETFROM:-0300
TZOFFSETTO:-0200
END:DAYLIGHT
END:VTIMEZONE
END:VCALENDAR
