BEGIN:VCALENDAR
VERSION:2.0
PRODID:-//Plone.org//NONSGML plone.app.event//EN
X-WR-TIMEZONE:America/Buenos_Aires
BEGIN:VEVENT
SUMMARY:Boas-vindas aos discentes Ingressantes do ILAESP
DTSTART;TZID=America/Buenos_Aires;VALUE=DATE-TIME:20240807T183000
DTSTAMP;VALUE=DATE-TIME:20260423T225231Z
UID:0150d6d2ef8343db98a7b64523cc543e@portal.unila.edu.br
CREATED;VALUE=DATE-TIME:20240806T150454Z
DESCRIPTION:Evento de boas vindas aos estudantes do ILAESP acontece no dia
  07 de agosto\, às 18h30\, na UNILA-Campus Integração
LAST-MODIFIED;VALUE=DATE-TIME:20240806T150500Z
LOCATION:UNILA-Campus Integração - Sala A015 do Bloco 2
URL:https://portal.unila.edu.br/eventos/boas-vindas-aos-discentes-ingressa
 ntes-do-ilaesp
END:VEVENT
BEGIN:VTIMEZONE
TZID:America/Buenos_Aires
X-LIC-LOCATION:America/Buenos_Aires
BEGIN:STANDARD
DTSTART;VALUE=DATE-TIME:20090314T230000
TZNAME:ART
TZOFFSETFROM:-0200
TZOFFSETTO:-0300
END:STANDARD
END:VTIMEZONE
END:VCALENDAR
