BEGIN:VCALENDAR
VERSION:2.0
PRODID:-//Plone.org//NONSGML plone.app.event//EN
X-WR-TIMEZONE:America/Buenos_Aires
BEGIN:VEVENT
SUMMARY:Biunila promove workshop online: "Compendex: Revise e acompanhe a 
 produção científica mundial em Tecnologia e Engenharia"
DTSTART;TZID=America/Buenos_Aires;VALUE=DATE-TIME:20220922T140000
DTEND;TZID=America/Buenos_Aires;VALUE=DATE-TIME:20220922T150000
DTSTAMP;VALUE=DATE-TIME:20260424T010641Z
UID:8c6329ea195141fda9601f8fc3568f69@portal.unila.edu.br
CONTACT:referencia.biunila@unila.edu.br
CREATED;VALUE=DATE-TIME:20220913T104739Z
DESCRIPTION:O evento é gratuito\, online e exclusivo para a comunidade Un
 ileira
LAST-MODIFIED;VALUE=DATE-TIME:20220913T104756Z
URL:https://portal.unila.edu.br/eventos/biunila-promove-workshop-online-co
 mpendex-revise-e-acompanhe-a-producao-cientifica-mundial-em-tecnologia-e-e
 ngenharia
END:VEVENT
BEGIN:VTIMEZONE
TZID:America/Buenos_Aires
X-LIC-LOCATION:America/Buenos_Aires
BEGIN:STANDARD
DTSTART;VALUE=DATE-TIME:20090314T230000
TZNAME:ART
TZOFFSETFROM:-0200
TZOFFSETTO:-0300
END:STANDARD
END:VTIMEZONE
END:VCALENDAR
