BEGIN:VCALENDAR
VERSION:2.0
PRODID:-//Plone.org//NONSGML plone.app.event//EN
X-WR-TIMEZONE:America/Buenos_Aires
BEGIN:VEVENT
SUMMARY:Banca - TCC
DTSTART;TZID=America/Buenos_Aires;VALUE=DATE-TIME:20250808T140000
DTSTAMP;VALUE=DATE-TIME:20260423T054650Z
UID:49da3f8a9f144575bda770198c9a1284@portal.unila.edu.br
CATEGORIES:matemática
CREATED;VALUE=DATE-TIME:20250717T114323Z
DESCRIPTION:Banca de TCC do Curso de Matemática - Licenciatura
LAST-MODIFIED;VALUE=DATE-TIME:20250717T123608Z
LOCATION:Campus Integração - Sala A003
URL:https://portal.unila.edu.br/eventos/banca-tcc
END:VEVENT
BEGIN:VTIMEZONE
TZID:America/Buenos_Aires
X-LIC-LOCATION:America/Buenos_Aires
BEGIN:STANDARD
DTSTART;VALUE=DATE-TIME:20090314T230000
TZNAME:ART
TZOFFSETFROM:-0200
TZOFFSETTO:-0300
END:STANDARD
END:VTIMEZONE
END:VCALENDAR
