BEGIN:VCALENDAR
VERSION:2.0
PRODID:-//Plone.org//NONSGML plone.app.event//EN
X-WR-TIMEZONE:America/Buenos_Aires
BEGIN:VEVENT
SUMMARY:Banca TCC
DTSTART;TZID=America/Buenos_Aires;VALUE=DATE-TIME:20251217T093000
DTSTAMP;VALUE=DATE-TIME:20260419T202832Z
UID:bccb8bc80de34fa0b7d7701bee81b6cf@portal.unila.edu.br
CATEGORIES:matemática
CREATED;VALUE=DATE-TIME:20251212T112157Z
DESCRIPTION:Defesa de TCC em Matemática - Licenciatura será dia 17 de de
 zembro\, às 9h30\, no Campus Integração.
LAST-MODIFIED;VALUE=DATE-TIME:20251212T112254Z
LOCATION:UNILA - Campus Integração
URL:https://portal.unila.edu.br/eventos/banca-tcc-2
END:VEVENT
BEGIN:VTIMEZONE
TZID:America/Buenos_Aires
X-LIC-LOCATION:America/Buenos_Aires
BEGIN:STANDARD
DTSTART;VALUE=DATE-TIME:20090314T230000
TZNAME:ART
TZOFFSETFROM:-0200
TZOFFSETTO:-0300
END:STANDARD
END:VTIMEZONE
END:VCALENDAR
