BEGIN:VCALENDAR
VERSION:2.0
PRODID:-//Plone.org//NONSGML plone.app.event//EN
X-WR-TIMEZONE:America/Buenos_Aires
BEGIN:VEVENT
SUMMARY:Banca do mestrado em Física Aplicada
DTSTART;TZID=America/Sao_Paulo;VALUE=DATE-TIME:20190806T140000
DTEND;TZID=America/Sao_Paulo;VALUE=DATE-TIME:20190806T180000
DTSTAMP;VALUE=DATE-TIME:20260422T130401Z
UID:7471870843a04213b9c8f498ff75ea80@portal.unila.edu.br
CREATED;VALUE=DATE-TIME:20190726T145726Z
DESCRIPTION:Aspectos geométricos da analogia óptico-mecânica de geodés
 icas em espaços curvos com simetrias esféricas
LAST-MODIFIED;VALUE=DATE-TIME:20190726T145932Z
LOCATION:Bloco 4\, Espaço 3\, Sala 1 - UNILA-PTI (Avenida Tancredo Neves\
 , 6731)
URL:https://portal.unila.edu.br/eventos/banca-do-mestrado-em-fisica-aplica
 da-1
END:VEVENT
BEGIN:VTIMEZONE
TZID:America/Sao_Paulo
X-LIC-LOCATION:America/Sao_Paulo
BEGIN:STANDARD
DTSTART;VALUE=DATE-TIME:20190216T230000
TZNAME:BRT
TZOFFSETFROM:-0200
TZOFFSETTO:-0300
END:STANDARD
END:VTIMEZONE
END:VCALENDAR
