BEGIN:VCALENDAR
VERSION:2.0
PRODID:-//Plone.org//NONSGML plone.app.event//EN
X-WR-TIMEZONE:America/Buenos_Aires
BEGIN:VEVENT
SUMMARY:Banca de TCC
DTSTART;TZID=America/Buenos_Aires;VALUE=DATE-TIME:20250804T100000
DTSTAMP;VALUE=DATE-TIME:20260425T010443Z
UID:5d48d98ef8ae41478c080a4792e0c1cc@portal.unila.edu.br
CATEGORIES:engenharia física
CREATED;VALUE=DATE-TIME:20250804T112215Z
DESCRIPTION:Banca de Trabalho de Conclusão de Curso de Engenharia Física
  do estudante Bruno Henrique Dourado Macedo.
LAST-MODIFIED;VALUE=DATE-TIME:20250806T143128Z
LOCATION:UNILA - ITAIPU Parquetec
URL:https://portal.unila.edu.br/eventos/banca-de-tcc
END:VEVENT
BEGIN:VTIMEZONE
TZID:America/Buenos_Aires
X-LIC-LOCATION:America/Buenos_Aires
BEGIN:STANDARD
DTSTART;VALUE=DATE-TIME:20090314T230000
TZNAME:ART
TZOFFSETFROM:-0200
TZOFFSETTO:-0300
END:STANDARD
END:VTIMEZONE
END:VCALENDAR
