BEGIN:VCALENDAR
VERSION:2.0
PRODID:-//Plone.org//NONSGML plone.app.event//EN
X-WR-TIMEZONE:America/Buenos_Aires
BEGIN:VEVENT
SUMMARY:Banca de TCC de Engenharia de Materiais
DTSTART;TZID=America/Buenos_Aires;VALUE=DATE-TIME:20220324T090000
DTEND;TZID=America/Buenos_Aires;VALUE=DATE-TIME:20220324T120000
DTSTAMP;VALUE=DATE-TIME:20260424T112122Z
UID:589ac3a56d974ee9b24c41e5175cd7a8@portal.unila.edu.br
CREATED;VALUE=DATE-TIME:20220316T124946Z
DESCRIPTION:A discente Jazmin Magalí D´Ecclesiis Godoy defende o seu TCC
  no dia 24/03\, às 09h.
LAST-MODIFIED;VALUE=DATE-TIME:20220316T124951Z
LOCATION:meet.google.com/pxi-zziw-fmu
URL:https://portal.unila.edu.br/eventos/banca-de-tcc-de-engenharia-de-mate
 riais
END:VEVENT
BEGIN:VTIMEZONE
TZID:America/Buenos_Aires
X-LIC-LOCATION:America/Buenos_Aires
BEGIN:STANDARD
DTSTART;VALUE=DATE-TIME:20090314T230000
TZNAME:ART
TZOFFSETFROM:-0200
TZOFFSETTO:-0300
END:STANDARD
END:VTIMEZONE
END:VCALENDAR
