BEGIN:VCALENDAR
VERSION:2.0
PRODID:-//Plone.org//NONSGML plone.app.event//EN
X-WR-TIMEZONE:America/Buenos_Aires
BEGIN:VEVENT
SUMMARY:Banca de TCC - Ciências da Natureza
DTSTART;TZID=America/Buenos_Aires;VALUE=DATE-TIME:20250808T140000
DTSTAMP;VALUE=DATE-TIME:20260422T124808Z
UID:a4ce5c60343d48ad834a4f3822905462@portal.unila.edu.br
CATEGORIES:ciências da natureza
CREATED;VALUE=DATE-TIME:20250806T150033Z
DESCRIPTION:Graduando em Ciências da Natureza apresenta trabalho sobre en
 sino de eletroquímica e consciência ambiental no ensino médio.
LAST-MODIFIED;VALUE=DATE-TIME:20250806T150403Z
LOCATION:UNILA - Jardim Universitário
URL:https://portal.unila.edu.br/eventos/banca-de-tcc-ciencias-da-natureza
END:VEVENT
BEGIN:VTIMEZONE
TZID:America/Buenos_Aires
X-LIC-LOCATION:America/Buenos_Aires
BEGIN:STANDARD
DTSTART;VALUE=DATE-TIME:20090314T230000
TZNAME:ART
TZOFFSETFROM:-0200
TZOFFSETTO:-0300
END:STANDARD
END:VTIMEZONE
END:VCALENDAR
