BEGIN:VCALENDAR
VERSION:2.0
PRODID:-//Plone.org//NONSGML plone.app.event//EN
X-WR-TIMEZONE:America/Buenos_Aires
BEGIN:VEVENT
SUMMARY:Banca de TCC – Letras - Espanhol e Português como Línguas Estr
 angeiras
DTSTART;TZID=America/Sao_Paulo;VALUE=DATE-TIME:20210608T140000
DTEND;TZID=America/Sao_Paulo;VALUE=DATE-TIME:20210608T170000
DTSTAMP;VALUE=DATE-TIME:20260422T130427Z
UID:73b841bec57243b0a2f8a5ba9817fdd8@portal.unila.edu.br
CATEGORIES:letras português e espanhol
CREATED;VALUE=DATE-TIME:20210607T165444Z
DESCRIPTION:A estudante Ellen Santos da Silva apresenta trabalho nesta ter
 ça-feira (8)\, às 14h
LAST-MODIFIED;VALUE=DATE-TIME:20210607T170036Z
URL:https://portal.unila.edu.br/eventos/banca-de-tcc-2013-letras-portugues
 -e-espanhol-como-linguas-estrangeiras
END:VEVENT
BEGIN:VTIMEZONE
TZID:America/Sao_Paulo
X-LIC-LOCATION:America/Sao_Paulo
BEGIN:STANDARD
DTSTART;VALUE=DATE-TIME:20210220T230000
TZNAME:BRT
TZOFFSETFROM:-0200
TZOFFSETTO:-0300
END:STANDARD
END:VTIMEZONE
END:VCALENDAR
