BEGIN:VCALENDAR
VERSION:2.0
PRODID:-//Plone.org//NONSGML plone.app.event//EN
X-WR-TIMEZONE:America/Buenos_Aires
BEGIN:VEVENT
SUMMARY:Banca de TCC – Letras - Espanhol e Português como Línguas Estr
 angeiras
DTSTART;TZID=America/Sao_Paulo;VALUE=DATE-TIME:20210611T103000
DTEND;TZID=America/Sao_Paulo;VALUE=DATE-TIME:20210611T130000
DTSTAMP;VALUE=DATE-TIME:20260422T000309Z
UID:c134f052e7a94c66be591d2e595dac47@portal.unila.edu.br
CATEGORIES:letras português e espanhol
CREATED;VALUE=DATE-TIME:20210608T130019Z
DESCRIPTION:A estudante Camila da Silva Ribeiro apresenta trabalho na pró
 xima sexta-feira (11)\, às 10h30
LAST-MODIFIED;VALUE=DATE-TIME:20210608T133429Z
URL:https://portal.unila.edu.br/eventos/banca-de-tcc-2013-letras-espanhol-
 e-portugues-como-linguas-estrangeiras
END:VEVENT
BEGIN:VTIMEZONE
TZID:America/Sao_Paulo
X-LIC-LOCATION:America/Sao_Paulo
BEGIN:STANDARD
DTSTART;VALUE=DATE-TIME:20210220T230000
TZNAME:BRT
TZOFFSETFROM:-0200
TZOFFSETTO:-0300
END:STANDARD
END:VTIMEZONE
END:VCALENDAR
