BEGIN:VCALENDAR
VERSION:2.0
PRODID:-//Plone.org//NONSGML plone.app.event//EN
X-WR-TIMEZONE:America/Buenos_Aires
BEGIN:VEVENT
SUMMARY:Banca de TCC – Letras - Artes e Mediação Cultural
DTSTART;TZID=America/Sao_Paulo;VALUE=DATE-TIME:20211001T140000
DTEND;TZID=America/Sao_Paulo;VALUE=DATE-TIME:20211001T160000
DTSTAMP;VALUE=DATE-TIME:20260425T083134Z
UID:885205c21e6b4e11969a0e1394944844@portal.unila.edu.br
CATEGORIES:letras artes
CREATED;VALUE=DATE-TIME:20210930T174331Z
DESCRIPTION:A estudante Ariadne Taissa Dias Pires Ferreira apresentará tr
 abalho de conclusão de curso nesta sexta-feira (1º)\, às 14h
LAST-MODIFIED;VALUE=DATE-TIME:20210930T174802Z
URL:https://portal.unila.edu.br/eventos/banca-de-tcc-2013-letras-artes-e-m
 ediacao-cultural
END:VEVENT
BEGIN:VTIMEZONE
TZID:America/Sao_Paulo
X-LIC-LOCATION:America/Sao_Paulo
BEGIN:STANDARD
DTSTART;VALUE=DATE-TIME:20210220T230000
TZNAME:BRT
TZOFFSETFROM:-0200
TZOFFSETTO:-0300
END:STANDARD
END:VTIMEZONE
END:VCALENDAR
