BEGIN:VCALENDAR
VERSION:2.0
PRODID:-//Plone.org//NONSGML plone.app.event//EN
X-WR-TIMEZONE:America/Buenos_Aires
BEGIN:VEVENT
SUMMARY:Banca de TCC – Letras - Artes e Mediação Cultural
DTSTART;TZID=America/Sao_Paulo;VALUE=DATE-TIME:20211008T100000
DTEND;TZID=America/Sao_Paulo;VALUE=DATE-TIME:20211008T120000
DTSTAMP;VALUE=DATE-TIME:20260425T084756Z
UID:eb869596dc8d4bab86675c5d8829e76d@portal.unila.edu.br
CATEGORIES:letras artes
CREATED;VALUE=DATE-TIME:20211004T130124Z
DESCRIPTION:No dia 8 de outubro\, às 10h\, o estudante Andres Mauricio Ga
 rcia Torres apresentará trabalho de conclusão de curso
LAST-MODIFIED;VALUE=DATE-TIME:20211004T130425Z
URL:https://portal.unila.edu.br/eventos/banca-de-tcc-2013-letras-artes-e-m
 ediacao-cultural-4
END:VEVENT
BEGIN:VTIMEZONE
TZID:America/Sao_Paulo
X-LIC-LOCATION:America/Sao_Paulo
BEGIN:STANDARD
DTSTART;VALUE=DATE-TIME:20210220T230000
TZNAME:BRT
TZOFFSETFROM:-0200
TZOFFSETTO:-0300
END:STANDARD
END:VTIMEZONE
END:VCALENDAR
