BEGIN:VCALENDAR
VERSION:2.0
PRODID:-//Plone.org//NONSGML plone.app.event//EN
X-WR-TIMEZONE:America/Buenos_Aires
BEGIN:VEVENT
SUMMARY:Banca de Qualificação - Mestrado em Engenharia Civil
DTSTART;TZID=America/Sao_Paulo;VALUE=DATE-TIME:20210831T143000
DTEND;TZID=America/Sao_Paulo;VALUE=DATE-TIME:20210831T163000
DTSTAMP;VALUE=DATE-TIME:20260425T093131Z
UID:882f547bf3cf41ec9bc77f9871eeb22b@portal.unila.edu.br
CATEGORIES:mestrado engenharia civil
CREATED;VALUE=DATE-TIME:20210826T143211Z
DESCRIPTION:A banca de qualificação da mestranda Adriana Elisabete Limbe
 rger será no dia 31 de agosto\, às 14h30
LAST-MODIFIED;VALUE=DATE-TIME:20210826T143410Z
URL:https://portal.unila.edu.br/eventos/banca-de-qualificacao-mestrado-em-
 engenharia-civil-18
END:VEVENT
BEGIN:VTIMEZONE
TZID:America/Sao_Paulo
X-LIC-LOCATION:America/Sao_Paulo
BEGIN:STANDARD
DTSTART;VALUE=DATE-TIME:20210220T230000
TZNAME:BRT
TZOFFSETFROM:-0200
TZOFFSETTO:-0300
END:STANDARD
END:VTIMEZONE
END:VCALENDAR
