BEGIN:VCALENDAR
VERSION:2.0
PRODID:-//Plone.org//NONSGML plone.app.event//EN
X-WR-TIMEZONE:America/Buenos_Aires
BEGIN:VEVENT
SUMMARY:Banca de Qualificação - Mestrado em Engenharia Civil
DTSTART;TZID=America/Sao_Paulo;VALUE=DATE-TIME:20210831T090000
DTEND;TZID=America/Sao_Paulo;VALUE=DATE-TIME:20210831T100000
DTSTAMP;VALUE=DATE-TIME:20260425T011435Z
UID:b851bf10eaf5428b9663c23d8a853659@portal.unila.edu.br
CATEGORIES:mestrado engenharia civil
CREATED;VALUE=DATE-TIME:20210826T141944Z
DESCRIPTION:O mestrando André Luiz Pasini apresenta trabalho no dia 31 de
  agosto\, às 9h
LAST-MODIFIED;VALUE=DATE-TIME:20210831T133057Z
URL:https://portal.unila.edu.br/eventos/banca-de-qualificacao-mestrado-em-
 engenharia-civil-17
END:VEVENT
BEGIN:VTIMEZONE
TZID:America/Sao_Paulo
X-LIC-LOCATION:America/Sao_Paulo
BEGIN:STANDARD
DTSTART;VALUE=DATE-TIME:20210220T230000
TZNAME:BRT
TZOFFSETFROM:-0200
TZOFFSETTO:-0300
END:STANDARD
END:VTIMEZONE
END:VCALENDAR
