BEGIN:VCALENDAR
VERSION:2.0
PRODID:-//Plone.org//NONSGML plone.app.event//EN
X-WR-TIMEZONE:America/Buenos_Aires
BEGIN:VEVENT
SUMMARY:Banca de qualificação do PPG-BN
DTSTART;TZID=America/Sao_Paulo;VALUE=DATE-TIME:20200217T090000
DTEND;TZID=America/Sao_Paulo;VALUE=DATE-TIME:20200217T120000
DTSTAMP;VALUE=DATE-TIME:20260425T082849Z
UID:250c75f4027649e9bde66f01871fc815@portal.unila.edu.br
CATEGORIES:mestrado biodiversidade
CREATED;VALUE=DATE-TIME:20200211T171506Z
DESCRIPTION:Gessyca Fernanda da Silva apresenta o trabalho "Diversidade de
  fungos em solo contaminado com atrazina: dinâmica da comunidade fúngica
  em microcosmos"
LAST-MODIFIED;VALUE=DATE-TIME:20200211T171623Z
LOCATION:Sala G101 - UNILA-Jardim Universitário (Avenida Tarquínio Josli
 n dos Santos\, 1000)
URL:https://portal.unila.edu.br/eventos/banca-de-qualificacao-do-ppg-bn-3
END:VEVENT
BEGIN:VTIMEZONE
TZID:America/Sao_Paulo
X-LIC-LOCATION:America/Sao_Paulo
BEGIN:STANDARD
DTSTART;VALUE=DATE-TIME:20200215T230000
TZNAME:BRT
TZOFFSETFROM:-0200
TZOFFSETTO:-0300
END:STANDARD
END:VTIMEZONE
END:VCALENDAR
