BEGIN:VCALENDAR
VERSION:2.0
PRODID:-//Plone.org//NONSGML plone.app.event//EN
X-WR-TIMEZONE:America/Buenos_Aires
BEGIN:VEVENT
SUMMARY:Banca de Qualificação do PPG-BN
DTSTART;TZID=America/Sao_Paulo;VALUE=DATE-TIME:20190508T140000
DTEND;TZID=America/Sao_Paulo;VALUE=DATE-TIME:20190508T170000
DTSTAMP;VALUE=DATE-TIME:20260424T032114Z
UID:1b92e370150440dfa7e4d0e5b7f49875@portal.unila.edu.br
CREATED;VALUE=DATE-TIME:20190508T145151Z
DESCRIPTION:Defesa de Qualificação do discente Gabriel Accioly Tripode\,
  no Jardim Universitário.
LAST-MODIFIED;VALUE=DATE-TIME:20190508T145155Z
LOCATION:Sala G101 - UNILA - Jardim Universitário - Av. Tarquínio Joslin
  dos Santos\, 1000
URL:https://portal.unila.edu.br/eventos/banca-de-qualificacao-do-ppg-bn-2
END:VEVENT
BEGIN:VTIMEZONE
TZID:America/Sao_Paulo
X-LIC-LOCATION:America/Sao_Paulo
BEGIN:STANDARD
DTSTART;VALUE=DATE-TIME:20190216T230000
TZNAME:BRT
TZOFFSETFROM:-0200
TZOFFSETTO:-0300
END:STANDARD
END:VTIMEZONE
END:VCALENDAR
